BEGIN:VCALENDAR
VERSION:2.0
PRODID:-//ChamberMaster//Event Calendar 2.0//EN
METHOD:PUBLISH
X-PUBLISHED-TTL:P3D
REFRESH-INTERVAL:P3D
CALSCALE:GREGORIAN
BEGIN:VEVENT
DTSTART:20210807T210000Z
DTEND:20210808T000000Z
X-MICROSOFT-CDO-ALLDAYEVENT:FALSE
SUMMARY:Harvest Dinner
DESCRIPTION:Food\, music and outdoor fun.  Co-sponsored by the Ligonier Country Market and the Loyalhanna Watershed Association.  All proceeds support the education programs at the LWA.
X-ALT-DESC;FMTTYPE=text/html:Food\, music and outdoor fun. &nbsp\;Co-sponsored by the Ligonier Country Market and the Loyalhanna Watershed Association. &nbsp\;All proceeds support the education programs at the LWA.
LOCATION:Corner of Springer Road and Old Route 30 (Ligonier Country Market Field)
UID:e.2103.10068
SEQUENCE:3
DTSTAMP:20260426T030455Z
URL:http://latrobearea.chambermaster.com/events/details/harvest-dinner-10068
END:VEVENT

END:VCALENDAR
